BEGIN:VCALENDAR
PRODID:-//github.com/rianjs/ical.net//NONSGML ical.net 4.0//EN
VERSION:2.0
BEGIN:VEVENT
DESCRIPTION:Reparere og redesigne med Eline Medbøe
DTEND:20231001T111500Z
DTSTAMP:20230921T131146Z
DTSTART:20231001T081500Z
LAST-MODIFIED:20230921T213618Z
LOCATION:Beregn strikefestival
SEQUENCE:0
SUMMARY:Nytt liv til gamle klær og tekstiler
UID:4a0f1ba9-8acf-4f05-9309-c44951abed0d@www.okouka.no
URL:https://www.okouka.no/lokale-oekouker/oekoveka-bergen/program/nytt-liv
 -til-gamle-klaer-og-tekstiler/
END:VEVENT
END:VCALENDAR
