BEGIN:VCALENDAR
PRODID:-//github.com/rianjs/ical.net//NONSGML ical.net 4.0//EN
VERSION:2.0
BEGIN:VEVENT
DESCRIPTION:Lær å lage deilige pizza basert på økologiske råvarer!
DTEND:20230926T190000Z
DTSTAMP:20230921T132220Z
DTSTART:20230926T160000Z
LAST-MODIFIED:20230921T134912Z
LOCATION:Ullandhaug økologiske gård
SEQUENCE:0
SUMMARY:Pizzakurs 26.sept
UID:e8094ef4-210e-4a54-b1a3-e3a0607c8eab@www.okouka.no
URL:https://www.okouka.no/lokale-oekouker/oekouka-rogaland/program/pizzaku
 rs-26sept/
END:VEVENT
END:VCALENDAR
