BEGIN:VCALENDAR
PRODID:-//github.com/rianjs/ical.net//NONSGML ical.net 4.0//EN
VERSION:2.0
BEGIN:VEVENT
DESCRIPTION:Hvordan legge til rette for mer økologisk og lokal mat i offen
 tlige innkjøp?
DTEND:20230929T121500Z
DTSTAMP:20230921T204603Z
DTSTART:20230929T110000Z
LAST-MODIFIED:20230928T152915Z
LOCATION:På nett
SEQUENCE:0
SUMMARY:Webinar: Lokalt og bærekraftig i offentlig innkjøp
UID:b6f2ec59-ec87-4fee-a286-d6a5909a9c6b@www.okouka.no
URL:https://www.okouka.no/program-2025/webinar-lokalt-og-baerekraftig-i-of
 fentlig-innkjoep/
END:VEVENT
END:VCALENDAR
