BEGIN:VCALENDAR
PRODID:-//github.com/rianjs/ical.net//NONSGML ical.net 4.0//EN
VERSION:2.0
BEGIN:VEVENT
DESCRIPTION:Denne torsdagen lager Hoggorm middag på Lystgården
DTEND:20240919T190000Z
DTSTAMP:20230921T214539Z
DTSTART:20240919T170000Z
LAST-MODIFIED:20240901T201232Z
LOCATION:Lystgården\, Kanonhaugen 39\, Landås
SEQUENCE:0
SUMMARY:Langbordsmiddag på Lystgården med Hoggorm
UID:df0b3cb5-81fd-4d10-bce4-ac48fe6557ec@www.okouka.no
URL:https://www.okouka.no/lokale-oekouker/oekoveka-bergen/program/langbord
 smiddag-paa-lystgaarden-med-hoggorm/
END:VEVENT
END:VCALENDAR
