BEGIN:VCALENDAR
PRODID:-//github.com/rianjs/ical.net//NONSGML ical.net 4.0//EN
VERSION:2.0
BEGIN:VEVENT
DESCRIPTION:Bli med oss på et inspirerende og lærerikt foredrag med Gry Ve
 dal\, vår regenerative gartner fra Coop Parseller i Geitvågen!
DTSTAMP:20230922T164849Z
DTSTART;VALUE=DATE:20230926
LAST-MODIFIED:20230922T164922Z
LOCATION:På nett
SEQUENCE:0
SUMMARY:Webinar: Virtuelt foredrag med Gry Vedal fra Coop Parseller i Geit
 vågen
UID:3a8e5a33-5bde-4e52-a78d-070d5921e2e3@www.okouka.no
URL:https://www.okouka.no/program-2025/webinar-virtuelt-foredrag-med-gry-v
 edal-fra-coop-parseller-i-geitvaagen/
END:VEVENT
END:VCALENDAR
