BEGIN:VCALENDAR
PRODID:-//github.com/rianjs/ical.net//NONSGML ical.net 4.0//EN
VERSION:2.0
BEGIN:VEVENT
DESCRIPTION:Parsa fra Polarhagen i Lofoten deler sine erfaringer om skånso
 m jordbehandling\, samplanting og det å lære å elske ugress.
DTEND:20230925T104000Z
DTSTAMP:20230922T171238Z
DTSTART:20230925T100000Z
LAST-MODIFIED:20230922T171419Z
LOCATION:Facebook Live: https://www.facebook.com/events/1521842175291092
SEQUENCE:0
SUMMARY:Webinar: Gratis online kurs med Polarhagen
UID:5d37062e-3588-436e-9c83-703e9b15202f@www.okouka.no
URL:https://www.okouka.no/program-2025/webinar-gratis-online-kurs-med-pola
 rhagen/
END:VEVENT
END:VCALENDAR
