BEGIN:VCALENDAR
PRODID:-//github.com/rianjs/ical.net//NONSGML ical.net 4.0//EN
VERSION:2.0
BEGIN:VEVENT
DESCRIPTION:Espen og Tove Sandsund Seierstad har sammen bygd og lever i kr
 etsløphuset på Austlia.
DTEND:20230930T120000Z
DTSTAMP:20230925T111542Z
DTSTART:20230930T100000Z
LAST-MODIFIED:20230925T111704Z
LOCATION:Austlia Gård – Mortsundveien 144\, Leknes
SEQUENCE:0
SUMMARY:BO OG LEVE MED ØKOLOGISKE KRETSLØP
UID:408c991e-c46d-4246-a0a5-88daf035d76c@www.okouka.no
URL:https://www.okouka.no/lokale-oekouker/oekouka-nordland/program/bo-og-l
 eve-med-oekologiske-kretsloep/
END:VEVENT
END:VCALENDAR
