BEGIN:VCALENDAR
PRODID:-//github.com/rianjs/ical.net//NONSGML ical.net 4.0//EN
VERSION:2.0
BEGIN:VEVENT
DESCRIPTION:Hvordan kan man få til et mest mulig økologisk hestehold i Nor
 d-Norge?
DTEND:20230930T120000Z
DTSTAMP:20230925T111847Z
DTSTART:20230930T100000Z
LAST-MODIFIED:20230925T111847Z
LOCATION:Austlia Gård – Mortsundveien 144\, Leknes
SEQUENCE:0
SUMMARY:ØKOLOGISK HESTEHOLD
UID:432140fe-08d9-45f1-a902-8b286bd06f85@www.okouka.no
URL:https://www.okouka.no/lokale-oekouker/oekouka-nordland/program/oekolog
 isk-hestehold/
END:VEVENT
END:VCALENDAR
