BEGIN:VCALENDAR
PRODID:-//github.com/rianjs/ical.net//NONSGML ical.net 4.0//EN
VERSION:2.0
BEGIN:VEVENT
DESCRIPTION:Har du spørsmål om kompost og kompostering? Har du ein hage me
 n syns kompost er vanskeleg? Har du dårleg råd?
DTSTAMP:20240805T135445Z
DTSTART;VALUE=DATE:20240922
LAST-MODIFIED:20240912T165450Z
LOCATION:Hvervenhagen\, Hvervenbukta
SEQUENCE:0
SUMMARY:Bygg ein enkel kompost i hagen!
UID:014ecb27-e198-4df3-b1b2-8d0526bec05d@www.okouka.no
URL:https://www.okouka.no/lokale-oekouker/oekouka-oslo-og-akershus/program
 /bygg-ein-enkel-kompost-i-hagen/
END:VEVENT
END:VCALENDAR
