BEGIN:VCALENDAR
PRODID:-//github.com/rianjs/ical.net//NONSGML ical.net 4.0//EN
VERSION:2.0
BEGIN:VEVENT
DESCRIPTION:Skal vi få til mer økologisk mat må det bli lønnsomt å produse
 re mat.
DTEND:20240914T120000Z
DTSTAMP:20240808T143245Z
DTSTART:20240914T100000Z
LAST-MODIFIED:20240904T111549Z
LOCATION:The Just Store\, Mellomveien 24\, 7067 Trondheim
SEQUENCE:0
SUMMARY:Hvordan samskape fremtidens matsystem
UID:a898aed0-5fab-42ec-a8a6-2e03134a6b2f@www.okouka.no
URL:https://www.okouka.no/lokale-oekouker/oekouka-troendelag/program/hvord
 an-samskape-fremtidens-matsystem/
END:VEVENT
END:VCALENDAR
