BEGIN:VCALENDAR
PRODID:-//github.com/rianjs/ical.net//NONSGML ical.net 4.0//EN
VERSION:2.0
BEGIN:VEVENT
DESCRIPTION:Kom å bli med å lær om jordliv og kompostering!\n\n
DTEND:20240919T190000Z
DTSTAMP:20240819T173207Z
DTSTART:20240919T170000Z
LAST-MODIFIED:20240907T191636Z
LOCATION:Matskogen på Landås\, Landåssvingen 15\, 5096 Landås
SEQUENCE:0
SUMMARY:Kompostkurs med Matskogen på Landås Komposykurs - del 1 - Del 1) T
 orsdag 19. sempember kl 19-21 for teoretisk innføring i jordliv og kompos
 t. Vi ser på mikroliv med mikroskop. Sted: Lystgården eller Landås biblio
 tek (info kommer etterhvert).
UID:c9252c5b-9a77-49a7-8acf-0cfe38fae9a4@www.okouka.no
URL:https://www.okouka.no/lokale-oekouker/oekoveka-bergen/program/kompostk
 urs-med-matskogen-paa-landaas/
END:VEVENT
BEGIN:VEVENT
DESCRIPTION:Kom å bli med å lær om jordliv og kompostering!\n\n
DTEND:20240921T130000Z
DTSTAMP:20240819T173207Z
DTSTART:20240921T090000Z
LAST-MODIFIED:20240907T191636Z
LOCATION:Matskogen på Landås\, Landåssvingen 15\, 5096 Landås
SEQUENCE:0
SUMMARY:Kompostkurs med Matskogen på Landås Kompostkurs - del 2 - Del 2) L
 ørdag 21. september blir det praktisk kompostering. Sted: Matskogen på La
 ndås Kurset holdes av Mauricio Cardona. Han er en av Matskogens frivillig
 e som har gjennomført grunnkurs i jordliv og kompost\, og tatt Soil Food 
 Web school sin sertifisering.
UID:d23e36ee-7b67-4f9c-b3f3-e92ecb944a7a@www.okouka.no
URL:https://www.okouka.no/lokale-oekouker/oekoveka-bergen/program/kompostk
 urs-med-matskogen-paa-landaas/
END:VEVENT
END:VCALENDAR
