BEGIN:VCALENDAR
PRODID:-//github.com/rianjs/ical.net//NONSGML ical.net 4.0//EN
VERSION:2.0
BEGIN:VEVENT
DESCRIPTION:Bli med den erfarne kokken Anne Lill fra Stene Matglede og lag
  enkle og fristende retter med sesongens grønnsaker.
DTEND:20240917T190000Z
DTSTAMP:20240819T192022Z
DTSTART:20240917T160000Z
LAST-MODIFIED:20240907T191926Z
LOCATION:Lystgården\, Kanonhaugen 39\, 5097 Bergen
SEQUENCE:0
SUMMARY:Sesongmatkurs på Lystgården
UID:9e0c084e-6a19-4058-8a71-1d4aac2a14ef@www.okouka.no
URL:https://www.okouka.no/lokale-oekouker/oekoveka-bergen/program/sesongma
 tkurs-paa-lystgaarden/
END:VEVENT
END:VCALENDAR
