BEGIN:VCALENDAR
PRODID:-//github.com/rianjs/ical.net//NONSGML ical.net 4.0//EN
VERSION:2.0
BEGIN:VEVENT
DESCRIPTION:
DTEND:20240918T180000Z
DTSTAMP:20240822T131628Z
DTSTART:20240918T160000Z
LAST-MODIFIED:20240912T170116Z
LOCATION:Hellviktangen kunstkafé
SEQUENCE:0
SUMMARY:Fermenteringskurs på Hellviktangen Kunstcafé
UID:d6ef40e6-4307-435c-ae1d-f79fd4760210@www.okouka.no
URL:https://www.okouka.no/lokale-oekouker/oekouka-oslo-og-akershus/program
 /fermenteringskurs-paa-hellviktangen-kunstcafe/
END:VEVENT
END:VCALENDAR
