BEGIN:VCALENDAR
PRODID:-//github.com/rianjs/ical.net//NONSGML ical.net 4.0//EN
VERSION:2.0
BEGIN:VEVENT
DESCRIPTION:
DTEND:20240915T140000Z
DTSTAMP:20240822T134250Z
DTSTART:20240915T093000Z
LAST-MODIFIED:20240912T171248Z
LOCATION:Gartneriet på Bygdøy
SEQUENCE:0
SUMMARY:Innhøstingsdag på Gartneriet
UID:a4bae78f-735c-47f0-927a-e19fd01be01b@www.okouka.no
URL:https://www.okouka.no/lokale-oekouker/oekouka-oslo-og-akershus/program
 /innhoestingsdag-paa-gartneriet/
END:VEVENT
END:VCALENDAR
