BEGIN:VCALENDAR
PRODID:-//github.com/rianjs/ical.net//NONSGML ical.net 4.0//EN
VERSION:2.0
BEGIN:VEVENT
DESCRIPTION:RITUALER I HVERDAGEN
DTEND:20240915T150000Z
DTSTAMP:20240822T194141Z
DTSTART:20240915T083000Z
LAST-MODIFIED:20240912T172250Z
LOCATION:zen house
SEQUENCE:0
SUMMARY:Holistisk kurs i hverdagsritualer (15 ledige plasser)
UID:9378076a-b0f4-4a3e-be18-894e5c5863b5@www.okouka.no
URL:https://www.okouka.no/lokale-oekouker/oekouka-oslo-og-akershus/program
 /holistisk-kurs-i-hverdagsritualer-15-ledige-plasser/
END:VEVENT
END:VCALENDAR
