BEGIN:VCALENDAR
PRODID:-//github.com/rianjs/ical.net//NONSGML ical.net 4.0//EN
VERSION:2.0
BEGIN:VEVENT
DESCRIPTION:
DTEND:20240917T180000Z
DTSTAMP:20240822T194827Z
DTSTART:20240917T160000Z
LAST-MODIFIED:20240912T170413Z
LOCATION:Linderud gård
SEQUENCE:0
SUMMARY:Kurs: Urter og mat for en god magefølelse
UID:635db93a-1517-4181-9dde-be77f9770117@www.okouka.no
URL:https://www.okouka.no/lokale-oekouker/oekouka-oslo-og-akershus/program
 /kurs-urter-og-mat-for-en-god-magefoelelse/
END:VEVENT
END:VCALENDAR
