BEGIN:VCALENDAR
PRODID:-//github.com/rianjs/ical.net//NONSGML ical.net 4.0//EN
VERSION:2.0
BEGIN:VEVENT
DESCRIPTION:Lær alt dette og mer til på webinar i ØKOUKA!
DTEND:20240926T120000Z
DTSTAMP:20240823T105215Z
DTSTART:20240926T110000Z
LAST-MODIFIED:20240828T150533Z
LOCATION:Webinar
SEQUENCE:0
SUMMARY:Webinar: Enkelt forklart: Slik får du økogodkjenning  - Webinar 1
UID:f94755bf-9760-4401-8004-2f07174e6b76@www.okouka.no
URL:https://www.okouka.no/program-2025/webinar-enkelt-forklart-slik-faar-d
 u-oekogodkjenning/
END:VEVENT
BEGIN:VEVENT
DESCRIPTION:Lær alt dette og mer til på webinar i ØKOUKA!
DTEND:20240926T180000Z
DTSTAMP:20240823T105215Z
DTSTART:20240926T170000Z
LAST-MODIFIED:20240828T150533Z
LOCATION:Webinar
SEQUENCE:0
SUMMARY:Webinar: Enkelt forklart: Slik får du økogodkjenning  - Webinar 2
UID:091a5ac7-29b0-4931-b516-f529eb039f62@www.okouka.no
URL:https://www.okouka.no/program-2025/webinar-enkelt-forklart-slik-faar-d
 u-oekogodkjenning/
END:VEVENT
END:VCALENDAR
