BEGIN:VCALENDAR
PRODID:-//github.com/rianjs/ical.net//NONSGML ical.net 4.0//EN
VERSION:2.0
BEGIN:VEVENT
DESCRIPTION:Denne tysdagen er det Økoveka i Bergen og bøndene på Soltun yn
 skjer å invitere til ei gratis omvisning på garden!
DTEND:20240917T160000Z
DTSTAMP:20240823T142015Z
DTSTART:20240917T100000Z
LAST-MODIFIED:20240907T192116Z
LOCATION: Soltun Besøksgard Garnestangen 60\, 5264 Garnes\, Norge
SEQUENCE:0
SUMMARY:Open gard med gardsomvisning i Arna
UID:9bf8cc74-c9bf-47a5-8ef9-5ccc6e8ce4e6@www.okouka.no
URL:https://www.okouka.no/lokale-oekouker/oekoveka-bergen/program/open-gar
 d-med-gardsomvisning-i-arna/
END:VEVENT
END:VCALENDAR
