BEGIN:VCALENDAR
PRODID:-//github.com/rianjs/ical.net//NONSGML ical.net 4.0//EN
VERSION:2.0
BEGIN:VEVENT
DESCRIPTION:Open gard er ope for publikum mellom 12 og 15 denne laurdagen.
DTEND:20240921T130000Z
DTSTAMP:20240823T213515Z
DTSTART:20240921T100000Z
LAST-MODIFIED:20240907T191224Z
LOCATION:Stend\, Fanavegen 249\, 5244 Fana\, Norge
SEQUENCE:0
SUMMARY:Open dag på Stend vidaregåande skule
UID:f352df1e-aa56-455e-9f3e-635801349246@www.okouka.no
URL:https://www.okouka.no/lokale-oekouker/oekoveka-bergen/program/open-dag
 -paa-stend-vidaregaaande-skule/
END:VEVENT
END:VCALENDAR
