BEGIN:VCALENDAR
PRODID:-//github.com/rianjs/ical.net//NONSGML ical.net 4.0//EN
VERSION:2.0
BEGIN:VEVENT
DESCRIPTION:Lær om dyrking av økologiske grønnsaker!
DTEND:20240919T190000Z
DTSTAMP:20240825T215457Z
DTSTART:20240919T170000Z
LAST-MODIFIED:20240825T220133Z
LOCATION:
SEQUENCE:0
SUMMARY:Markens Grøde - lær å dyrke og lage mat med grønnsaker og urter fr
 a egen hage
UID:f82ee01d-5854-4a3a-a135-ea9297047adc@www.okouka.no
URL:https://www.okouka.no/lokale-oekouker/oekouka-oestfold/program/markens
 -groede-laer-aa-dyrke-og-lage-mat-med-groennsaker-og-urter-fra-egen-hage/
END:VEVENT
END:VCALENDAR
