BEGIN:VCALENDAR
PRODID:-//github.com/rianjs/ical.net//NONSGML ical.net 4.0//EN
VERSION:2.0
BEGIN:VEVENT
DESCRIPTION:Livet og maten starter i jorda. Vi setter fokus på jordhelse\,
  og med Øystein Haugerud og Vibhoda Holten på Trøndelagsbesøk inviterer v
 i til fagdager og markvandringer på naturbruksskolene.\n
DTSTAMP:20240826T123351Z
DTSTART;VALUE=DATE:20240910
LAST-MODIFIED:20240826T124647Z
LOCATION:Val vgs\, Mære landbruksskole\, Skjetlein vgs og Øya vgs
SEQUENCE:0
SUMMARY:«Jordhelse med Haugerud og Holten!» - fagmøter og markvandringer p
 å naturbruksskolene i Trøndelag.
UID:42e70484-46ed-4d25-a88f-c06163413369@www.okouka.no
URL:https://www.okouka.no/lokale-oekouker/oekouka-troendelag/program/jordh
 else-med-haugerud-og-holten-fagmoeter-og-markvandringer-paa-naturbrukssko
 lene-i-troendelag/
END:VEVENT
END:VCALENDAR
