BEGIN:VCALENDAR
PRODID:-//github.com/rianjs/ical.net//NONSGML ical.net 4.0//EN
VERSION:2.0
BEGIN:VEVENT
DESCRIPTION:\nLivet og maten starter i jorda. Vi setter fokus på jordhelse
 \, og med Øystein Haugerud og Vibhoda Holten på Trøndelagsbesøk inviterer
  vi til fagdager og markvandringer på naturbruksskolene.\n \n
DTSTAMP:20240827T163939Z
DTSTART;VALUE=DATE:20240911
LAST-MODIFIED:20240827T163939Z
LOCATION:Mære landbruksskole\, Skjetlein vgs
SEQUENCE:0
SUMMARY:«Jordhelse med Haugerud og Holten!» - fagmøter og markvandringer p
 å naturbruksskolene i Trøndelag. (1)
UID:ed1ce77f-26c2-4ecf-bebb-5156bd8cd023@www.okouka.no
URL:https://www.okouka.no/lokale-oekouker/oekouka-troendelag/program/jordh
 else-med-haugerud-og-holten-fagmoeter-og-markvandringer-paa-naturbrukssko
 lene-i-troendelag-1/
END:VEVENT
END:VCALENDAR
