BEGIN:VCALENDAR
PRODID:-//github.com/rianjs/ical.net//NONSGML ical.net 4.0//EN
VERSION:2.0
BEGIN:VEVENT
DESCRIPTION:Interresert i hvordan arbeide med økosorg sammen?
DTEND:20240918T180000Z
DTSTAMP:20240828T134215Z
DTSTART:20240918T153000Z
LAST-MODIFIED:20240912T170310Z
LOCATION:Urtegata 39
SEQUENCE:0
SUMMARY:Opplevelsesbasert samling om økosorg med en av Norges mest erfarne
  miljøaktivister
UID:0c575eb9-d1ef-4355-82f6-2cf7215cc33f@www.okouka.no
URL:https://www.okouka.no/lokale-oekouker/oekouka-oslo-og-akershus/program
 /opplevelsesbasert-samling-om-oekosorg-med-en-av-norges-mest-erfarne-milj
 oeaktivister/
END:VEVENT
END:VCALENDAR
