BEGIN:VCALENDAR
PRODID:-//github.com/rianjs/ical.net//NONSGML ical.net 4.0//EN
VERSION:2.0
BEGIN:VEVENT
DESCRIPTION:Shruti Karkhanis kom til Bergen for 6 år siden og har sammen m
 ed familien sin allerede markert seg med sin sterke lidenskap for matlagi
 ng.
DTEND:20240915T153000Z
DTSTAMP:20240829T000832Z
DTSTART:20240915T123000Z
LAST-MODIFIED:20240829T193100Z
LOCATION:Reindyrka\, Strandgaten 21\, 5013 Bergen
SEQUENCE:0
SUMMARY:Indisk matkurs med Shruti Karkhanis
UID:c12cb533-cbfd-4bb0-af97-ba0c7d158ef2@www.okouka.no
URL:https://www.okouka.no/lokale-oekouker/oekoveka-bergen/program/indisk-m
 atkurs-med-shruti-karkhanis/
END:VEVENT
END:VCALENDAR
