BEGIN:VCALENDAR
PRODID:-//github.com/rianjs/ical.net//NONSGML ical.net 4.0//EN
VERSION:2.0
BEGIN:VEVENT
DESCRIPTION:Blir med på feiringen av ØkoUka 2024. Sammen med økologisk Nor
 ge holder vi tradisjonen tro en gratis åpningsfrokost på Godt Brød.
DTEND:20240916T070000Z
DTSTAMP:20240829T120243Z
DTSTART:20240916T050000Z
LAST-MODIFIED:20240912T171024Z
LOCATION:Godt Brød Grunerløkka
SEQUENCE:0
SUMMARY:Økouka Åpningsfrokst på Godt Brød
UID:87a8d10a-0d0d-47cb-9944-8c700953409b@www.okouka.no
URL:https://www.okouka.no/lokale-oekouker/oekouka-oslo-og-akershus/program
 /oekouka-aapningsfrokst-paa-godt-broed/
END:VEVENT
END:VCALENDAR
