BEGIN:VCALENDAR
PRODID:-//github.com/rianjs/ical.net//NONSGML ical.net 4.0//EN
VERSION:2.0
BEGIN:VEVENT
DESCRIPTION:Kom og lær tips og triks for å ta vare på høstens råvarer fra 
 en økologisk stjernekokk!
DTEND:20240926T180000Z
DTSTAMP:20240902T160036Z
DTSTART:20240926T160000Z
LAST-MODIFIED:20240903T112616Z
LOCATION:Publikumshuset på Ullandhaug økologiske gård\, Ullandhaugveien 15
 0\, 4021 Stavanger
SEQUENCE:0
SUMMARY:Kurs i økologisk fermentering og konservering med Ola Klepp fra re
 staurant K2
UID:64979bfb-0ad9-406b-8613-da14480cc155@www.okouka.no
URL:https://www.okouka.no/lokale-oekouker/oekouka-rogaland/program/kurs-i-
 oekologisk-fermentering-og-konservering-med-ola-klepp-fra-restaurant-k2/
END:VEVENT
END:VCALENDAR
