BEGIN:VCALENDAR
PRODID:-//github.com/rianjs/ical.net//NONSGML ical.net 4.0//EN
VERSION:2.0
BEGIN:VEVENT
DESCRIPTION:Ta med barna og bli med på en spennende søndagsaktivitet samme
 n med Siri Mittet fra (bedriften) Gruten.
DTEND:20240915T120000Z
DTSTAMP:20240904T165037Z
DTSTART:20240915T103000Z
LAST-MODIFIED:20240904T172334Z
LOCATION:Kunsthallen i Kristiansand folkebibliotek\, Rådhusgata 11\, 4611 
 Kristiansand
SEQUENCE:0
SUMMARY:Lag en pleiende kroppskrubb og mal med kaffegrut
UID:121f74db-8e2f-4bdb-98a1-9c5516e91c79@www.okouka.no
URL:https://www.okouka.no/lokale-oekouker/oekouka-agder/program/lag-en-ple
 iende-kroppskrubb-og-mal-med-kaffegrut/
END:VEVENT
END:VCALENDAR
