BEGIN:VCALENDAR
PRODID:-//github.com/rianjs/ical.net//NONSGML ical.net 4.0//EN
VERSION:2.0
BEGIN:VEVENT
DESCRIPTION:Romantikk og realitetene ved småbrukslivet
DTEND:20240917T193000Z
DTSTAMP:20240904T180837Z
DTSTART:20240917T180000Z
LAST-MODIFIED:20240904T180837Z
LOCATION:Poléoland\, Torvgata 7\, Arendal
SEQUENCE:0
SUMMARY:Drømmen om småbruket - ønsker du deg det enkle livet på landet?
UID:e59b80ff-c38b-4ff1-8755-b96e5bc88cb5@www.okouka.no
URL:https://www.okouka.no/lokale-oekouker/oekouka-agder/program/droemmen-o
 m-smaabruket-oensker-du-deg-det-enkle-livet-paa-landet/
END:VEVENT
END:VCALENDAR
