BEGIN:VCALENDAR
PRODID:-//github.com/rianjs/ical.net//NONSGML ical.net 4.0//EN
VERSION:2.0
BEGIN:VEVENT
DESCRIPTION:Velkommen til visning av dokumentaren Kiss the Ground – en kra
 ftfull film som gir innsikt i hvordan vi kan takle både klimaendringer og
  jordbrukskrisen gjennom regenerativt landbruk.
DTEND:20240920T170000Z
DTSTAMP:20240904T185417Z
DTSTART:20240920T150000Z
LAST-MODIFIED:20240904T185657Z
LOCATION:Poléoland\, Torvgata 7\, Arendal
SEQUENCE:0
SUMMARY:Filmvisning: Kiss the ground
UID:6e961382-9e60-4985-bdd3-ddd10e3804d0@www.okouka.no
URL:https://www.okouka.no/lokale-oekouker/oekouka-agder/program/filmvisnin
 g-kiss-the-ground/
END:VEVENT
END:VCALENDAR
