BEGIN:VCALENDAR
PRODID:-//github.com/rianjs/ical.net//NONSGML ical.net 4.0//EN
VERSION:2.0
BEGIN:VEVENT
DESCRIPTION:Kurset for barn mellom 5 og 9 år (de minste med foreldre)
DTEND:20240915T120000Z
DTSTAMP:20240904T211753Z
DTSTART:20240915T110000Z
LAST-MODIFIED:20240907T193507Z
LOCATION:Lystgården\, Kanthaugen 39\, 5097 Landås
SEQUENCE:0
SUMMARY:Smaking og forståelse av hage for barn Ein del av Spiselig høstmar
 ked på Lystgården -
UID:0f111a90-fd2b-43d8-b37c-1fa76f6f31ed@www.okouka.no
URL:https://www.okouka.no/lokale-oekouker/oekoveka-bergen/program/smaking-
 og-forstaaelse-av-hage-for-barn/
END:VEVENT
BEGIN:VEVENT
DESCRIPTION:Kurset for barn mellom 5 og 9 år (de minste med foreldre)
DTEND:20240915T140000Z
DTSTAMP:20240904T211753Z
DTSTART:20240915T130000Z
LAST-MODIFIED:20240907T193507Z
LOCATION:Lystgården\, Kanthaugen 39\, 5097 Landås
SEQUENCE:0
SUMMARY:Smaking og forståelse av hage for barn Ein del av Spiselig høstmar
 ked på Lystgården -
UID:26f2f9d1-7a07-406e-a2a2-949cb53a8ee1@www.okouka.no
URL:https://www.okouka.no/lokale-oekouker/oekoveka-bergen/program/smaking-
 og-forstaaelse-av-hage-for-barn/
END:VEVENT
END:VCALENDAR
