BEGIN:VCALENDAR
PRODID:-//github.com/rianjs/ical.net//NONSGML ical.net 4.0//EN
VERSION:2.0
BEGIN:VEVENT
DESCRIPTION:Gastronomiske studier og gartnarfag studentar har open dag
DTEND:20240920T140000Z
DTSTAMP:20240904T224328Z
DTSTART:20240920T100000Z
LAST-MODIFIED:20240907T191424Z
LOCATION:Hjeltnesvegen 185\, 5730 Ulvik
SEQUENCE:0
SUMMARY:Open dag Gastronomiske studier på Hjeltnes
UID:f552f12e-5b41-4fdd-a5a8-7b697de92030@www.okouka.no
URL:https://www.okouka.no/lokale-oekouker/oekoveka-bergen/program/open-dag
 -gastronomiske-studier-paa-hjeltnes/
END:VEVENT
END:VCALENDAR
