BEGIN:VCALENDAR
PRODID:-//github.com/rianjs/ical.net//NONSGML ical.net 4.0//EN
VERSION:2.0
BEGIN:VEVENT
DESCRIPTION:Bli med på en inspirerende kveld der vi utforsker hvordan vi k
 an bruke høstens deilige grønnsaker!
DTEND:20240918T160000Z
DTSTAMP:20240906T211628Z
DTSTART:20240918T150000Z
LAST-MODIFIED:20240910T121121Z
LOCATION:Søgne videregående skole\, Søgneveien 175\, 4640 Søgne
SEQUENCE:0
SUMMARY:Sesongbasert! Middag og inspirasjonsforedrag om sesongens råvarer 
 med Tina Mersland
UID:d49796aa-bd09-498c-8d7b-e79b584577b3@www.okouka.no
URL:https://www.okouka.no/lokale-oekouker/oekouka-agder/program/sesongbase
 rt-middag-og-inspirasjonsforedrag-om-sesongens-raavarer-med-tina-mersland
 /
END:VEVENT
END:VCALENDAR
