BEGIN:VCALENDAR
PRODID:-//github.com/rianjs/ical.net//NONSGML ical.net 4.0//EN
VERSION:2.0
BEGIN:VEVENT
DESCRIPTION:Velkommen til folkemøte om jordbruk\, kortreist mat og beredsk
 ap!
DTEND:20240918T190000Z
DTSTAMP:20240910T111655Z
DTSTART:20240918T160000Z
LAST-MODIFIED:20240910T111934Z
LOCATION:Mære landbruksskole
SEQUENCE:0
SUMMARY:Folkemøte om jordbruk\, kortreist mat og beredskap
UID:95c3b386-e065-4899-a50b-381ebed54e7a@www.okouka.no
URL:https://www.okouka.no/lokale-oekouker/oekouka-troendelag/program/folke
 moete-om-jordbruk-kortreist-mat-og-beredskap/
END:VEVENT
END:VCALENDAR
