BEGIN:VCALENDAR
PRODID:-//github.com/rianjs/ical.net//NONSGML ical.net 4.0//EN
VERSION:2.0
BEGIN:VEVENT
DESCRIPTION:I anledning ØKOUKA vil vi sette søkelys på økologiske produkte
 r\,og spesielt poteten.
DTEND:20240913T083000Z
DTSTAMP:20240910T215221Z
DTSTART:20240913T070000Z
LAST-MODIFIED:20240910T215735Z
LOCATION:
SEQUENCE:0
SUMMARY:Webinar: Hvordan øke økologisk produksjon i Trøndelag
UID:7ad8e734-5cc1-412c-ba25-3b6d74733253@www.okouka.no
URL:https://www.okouka.no/lokale-oekouker/oekouka-troendelag/program/webin
 ar-hvordan-oeke-oekologisk-produksjon-i-troendelag/
END:VEVENT
END:VCALENDAR
