BEGIN:VCALENDAR
PRODID:-//github.com/rianjs/ical.net//NONSGML ical.net 4.0//EN
VERSION:2.0
BEGIN:VEVENT
DESCRIPTION:Vi feirer i år ØKOUKA på Fat og Fe ved å hylle gjenbruk og sal
 g av mat uten emballasje.
DTSTAMP:20240912T160756Z
DTSTART;VALUE=DATE:20240914
LAST-MODIFIED:20240912T161216Z
LOCATION:Fat og Fe Raveien 500B\, 3239 Fevang\, Norge
SEQUENCE:0
SUMMARY:Økouka 2024 på Fat og fe
UID:ffbf28b1-24d9-4cff-972c-847d8027b039@www.okouka.no
URL:https://www.okouka.no/lokale-oekouker/oekouka-vestfold-og-telemark/pro
 gram/oekouka-2024-paa-fat-og-fe/
END:VEVENT
END:VCALENDAR
