BEGIN:VCALENDAR
PRODID:-//github.com/rianjs/ical.net//NONSGML ical.net 4.0//EN
VERSION:2.0
BEGIN:VEVENT
DESCRIPTION:
DTEND:20240921T140000Z
DTSTAMP:20240912T162942Z
DTSTART:20240921T100000Z
LAST-MODIFIED:20240912T162952Z
LOCATION:Bærtur\, Hvitsteinbakken\, 3085 Holmestrand
SEQUENCE:0
SUMMARY:Åpen økologisk gård på Bærtur
UID:b507c095-e973-46f5-9bfc-a22f5997f51f@www.okouka.no
URL:https://www.okouka.no/lokale-oekouker/oekouka-vestfold-og-telemark/pro
 gram/aapen-oekologisk-gaard-paa-baertur/
END:VEVENT
END:VCALENDAR
