BEGIN:VCALENDAR
PRODID:-//github.com/rianjs/ical.net//NONSGML ical.net 4.0//EN
VERSION:2.0
BEGIN:VEVENT
DESCRIPTION:Har du sett hvordan barn blir glad i nærheten av dyr? Eller ek
 stasen over å dra opp en gulrot? Eller å finne noen poteter?
DTEND:20240914T123000Z
DTSTAMP:20240912T172404Z
DTSTART:20240914T100000Z
LAST-MODIFIED:20240912T172445Z
LOCATION: Horgen gård\, Horgenvegen 18\, 1929 Auli\, Norway
SEQUENCE:0
SUMMARY:KIDS FARMING DAY 14. september
UID:f60855ed-fc9b-437f-8238-90f2ed5d609b@www.okouka.no
URL:https://www.okouka.no/lokale-oekouker/oekouka-oslo-og-akershus/program
 /kids-farming-day-14-september/
END:VEVENT
END:VCALENDAR
