BEGIN:VCALENDAR
PRODID:-//github.com/rianjs/ical.net//NONSGML ical.net 4.0//EN
VERSION:2.0
BEGIN:VEVENT
DESCRIPTION:Ekstra økologisk på menyen i ØKOVEKA hos nobel bopel
DTEND:20250912T200000Z
DTSTAMP:20240917T151113Z
DTSTART:20250912T080000Z
LAST-MODIFIED:20250903T084306Z
LOCATION:nobel bopel\, Welhavens gate 64\, Bergen
SEQUENCE:0
SUMMARY:Nobel Bopel byr på utvida økologisk meny  -
UID:6eea4e2d-77c0-4b09-ad5c-30f3e70a7d73@www.okouka.no
URL:https://www.okouka.no/lokale-oekouker/oekoveka-bergen/program/nobel-bo
 pel-byr-paa-utvida-oekologisk-meny/
END:VEVENT
BEGIN:VEVENT
DESCRIPTION:Ekstra økologisk på menyen i ØKOVEKA hos nobel bopel
DTEND:20250913T180000Z
DTSTAMP:20240917T151113Z
DTSTART:20250913T080000Z
LAST-MODIFIED:20250903T084306Z
LOCATION:nobel bopel\, Welhavens gate 64\, Bergen
SEQUENCE:0
SUMMARY:Nobel Bopel byr på utvida økologisk meny  -
UID:4547fa03-62b8-4159-8b74-bd5710af3a16@www.okouka.no
URL:https://www.okouka.no/lokale-oekouker/oekoveka-bergen/program/nobel-bo
 pel-byr-paa-utvida-oekologisk-meny/
END:VEVENT
BEGIN:VEVENT
DESCRIPTION:Ekstra økologisk på menyen i ØKOVEKA hos nobel bopel
DTEND:20250914T180000Z
DTSTAMP:20240917T151113Z
DTSTART:20250914T080000Z
LAST-MODIFIED:20250903T084306Z
LOCATION:nobel bopel\, Welhavens gate 64\, Bergen
SEQUENCE:0
SUMMARY:Nobel Bopel byr på utvida økologisk meny  -
UID:718e8594-5bba-4ec9-8ac3-85f7e0ce27f7@www.okouka.no
URL:https://www.okouka.no/lokale-oekouker/oekoveka-bergen/program/nobel-bo
 pel-byr-paa-utvida-oekologisk-meny/
END:VEVENT
BEGIN:VEVENT
DESCRIPTION:Ekstra økologisk på menyen i ØKOVEKA hos nobel bopel
DTEND:20250915T180000Z
DTSTAMP:20240917T151113Z
DTSTART:20250915T080000Z
LAST-MODIFIED:20250903T084306Z
LOCATION:nobel bopel\, Welhavens gate 64\, Bergen
SEQUENCE:0
SUMMARY:Nobel Bopel byr på utvida økologisk meny  -
UID:64417fe3-c006-4480-83ff-20f8e150029f@www.okouka.no
URL:https://www.okouka.no/lokale-oekouker/oekoveka-bergen/program/nobel-bo
 pel-byr-paa-utvida-oekologisk-meny/
END:VEVENT
BEGIN:VEVENT
DESCRIPTION:Ekstra økologisk på menyen i ØKOVEKA hos nobel bopel
DTEND:20250916T180000Z
DTSTAMP:20240917T151113Z
DTSTART:20250916T080000Z
LAST-MODIFIED:20250903T084306Z
LOCATION:nobel bopel\, Welhavens gate 64\, Bergen
SEQUENCE:0
SUMMARY:Nobel Bopel byr på utvida økologisk meny  -
UID:4279283e-d1b8-4f03-be26-a7168fff775f@www.okouka.no
URL:https://www.okouka.no/lokale-oekouker/oekoveka-bergen/program/nobel-bo
 pel-byr-paa-utvida-oekologisk-meny/
END:VEVENT
BEGIN:VEVENT
DESCRIPTION:Ekstra økologisk på menyen i ØKOVEKA hos nobel bopel
DTEND:20250917T180000Z
DTSTAMP:20240917T151113Z
DTSTART:20250917T080000Z
LAST-MODIFIED:20250903T084306Z
LOCATION:nobel bopel\, Welhavens gate 64\, Bergen
SEQUENCE:0
SUMMARY:Nobel Bopel byr på utvida økologisk meny  -
UID:b5a5eb5c-ed45-4b41-870a-abce7fe9b233@www.okouka.no
URL:https://www.okouka.no/lokale-oekouker/oekoveka-bergen/program/nobel-bo
 pel-byr-paa-utvida-oekologisk-meny/
END:VEVENT
BEGIN:VEVENT
DESCRIPTION:Ekstra økologisk på menyen i ØKOVEKA hos nobel bopel
DTEND:20250918T200000Z
DTSTAMP:20240917T151113Z
DTSTART:20250918T080000Z
LAST-MODIFIED:20250903T084306Z
LOCATION:nobel bopel\, Welhavens gate 64\, Bergen
SEQUENCE:0
SUMMARY:Nobel Bopel byr på utvida økologisk meny  -
UID:1866a848-d3bf-49ee-be1a-46227681b8c4@www.okouka.no
URL:https://www.okouka.no/lokale-oekouker/oekoveka-bergen/program/nobel-bo
 pel-byr-paa-utvida-oekologisk-meny/
END:VEVENT
BEGIN:VEVENT
DESCRIPTION:Ekstra økologisk på menyen i ØKOVEKA hos nobel bopel
DTEND:20250919T200000Z
DTSTAMP:20240917T151113Z
DTSTART:20250919T080000Z
LAST-MODIFIED:20250903T084306Z
LOCATION:nobel bopel\, Welhavens gate 64\, Bergen
SEQUENCE:0
SUMMARY:Nobel Bopel byr på utvida økologisk meny  -
UID:93eb4f23-438d-4cc3-b5e3-c3c409e176fe@www.okouka.no
URL:https://www.okouka.no/lokale-oekouker/oekoveka-bergen/program/nobel-bo
 pel-byr-paa-utvida-oekologisk-meny/
END:VEVENT
BEGIN:VEVENT
DESCRIPTION:Ekstra økologisk på menyen i ØKOVEKA hos nobel bopel
DTEND:20250920T180000Z
DTSTAMP:20240917T151113Z
DTSTART:20250920T080000Z
LAST-MODIFIED:20250903T084306Z
LOCATION:nobel bopel\, Welhavens gate 64\, Bergen
SEQUENCE:0
SUMMARY:Nobel Bopel byr på utvida økologisk meny  -
UID:02335d0f-4185-43b9-bef7-9b770a458bf5@www.okouka.no
URL:https://www.okouka.no/lokale-oekouker/oekoveka-bergen/program/nobel-bo
 pel-byr-paa-utvida-oekologisk-meny/
END:VEVENT
BEGIN:VEVENT
DESCRIPTION:Ekstra økologisk på menyen i ØKOVEKA hos nobel bopel
DTEND:20250921T180000Z
DTSTAMP:20240917T151113Z
DTSTART:20250921T080000Z
LAST-MODIFIED:20250903T084306Z
LOCATION:nobel bopel\, Welhavens gate 64\, Bergen
SEQUENCE:0
SUMMARY:Nobel Bopel byr på utvida økologisk meny  -
UID:a050a205-72f8-4bc9-abe5-1390c171707d@www.okouka.no
URL:https://www.okouka.no/lokale-oekouker/oekoveka-bergen/program/nobel-bo
 pel-byr-paa-utvida-oekologisk-meny/
END:VEVENT
END:VCALENDAR
