BEGIN:VCALENDAR
PRODID:-//github.com/rianjs/ical.net//NONSGML ical.net 4.0//EN
VERSION:2.0
BEGIN:VEVENT
DESCRIPTION:Grønt Fagsenter Buskerud presenterer prosjektet Jordhelse og k
 arbonfangst\, med markvandring hos Gøril og Helge Rivrud på Øvre Haugan g
 ård.
DTEND:20250915T190000Z
DTSTAMP:20250823T004542Z
DTSTART:20250915T160000Z
LAST-MODIFIED:20250905T222325Z
LOCATION:Hauganalleen 61\, 3350 Prestfoss
SEQUENCE:0
SUMMARY:Jordhelse og karbonfangst på Øvre Haugan gård
UID:e8431473-f230-447f-af68-3e497e792b57@www.okouka.no
URL:https://www.okouka.no/lokale-oekouker/oekouka-buskerud/program/jordhel
 se-og-karbonfangst-paa-oevre-haugan-gaard/
END:VEVENT
END:VCALENDAR
