BEGIN:VCALENDAR
PRODID:-//github.com/rianjs/ical.net//NONSGML ical.net 4.0//EN
VERSION:2.0
BEGIN:VEVENT
DESCRIPTION:Brød og beredskap\, helse og historie. Samtaler med Kjersti Ri
 nde Omsted og Olav Randen om kornets betydning for maten vi spiser og vår
  framtid.
DTEND:20250916T190000Z
DTSTAMP:20250823T011246Z
DTSTART:20250916T160000Z
LAST-MODIFIED:20250913T215137Z
LOCATION:Tuppeskogen grendahus i Gol (Tuppeskogvegen 145\, Gol)
SEQUENCE:0
SUMMARY:Brød og beredskap\, helse og historie med Kjersti Rinde Omsted\, O
 lav Randen og to lokale øko-bønder
UID:eec27b97-0ad5-4ca7-9df5-afac14336145@www.okouka.no
URL:https://www.okouka.no/lokale-oekouker/oekouka-buskerud/program/broed-o
 g-beredskap-helse-og-historie-med-kjersti-rinde-omsted-olav-randen-og-to-
 lokale-oeko-boender/
END:VEVENT
END:VCALENDAR
