BEGIN:VCALENDAR
PRODID:-//github.com/rianjs/ical.net//NONSGML ical.net 4.0//EN
VERSION:2.0
BEGIN:VEVENT
DESCRIPTION:Økologisk fokus på Bondens Marked i Bergen
DTEND:20250913T140000Z
DTSTAMP:20250827T203658Z
DTSTART:20250913T080000Z
LAST-MODIFIED:20250903T084811Z
LOCATION:Fisketorget
SEQUENCE:0
SUMMARY:ØKOVEKA på Bondens Marked Bergen
UID:1c1ec9dc-f58c-45e4-a0a9-7068d9d687f8@www.okouka.no
URL:https://www.okouka.no/lokale-oekouker/oekoveka-bergen/program/oekoveka
 -paa-bondens-marked-bergen/
END:VEVENT
END:VCALENDAR
