BEGIN:VCALENDAR
PRODID:-//github.com/rianjs/ical.net//NONSGML ical.net 4.0//EN
VERSION:2.0
BEGIN:VEVENT
DESCRIPTION:Velkommen til Food Up! Et pop-up matmarked som kobler bønder\,
  produsenter og forbrukere direkte.
DTEND:20250917T160000Z
DTSTAMP:20250828T160420Z
DTSTART:20250917T120000Z
LAST-MODIFIED:20250905T103714Z
LOCATION:Litteraturhuset
SEQUENCE:0
SUMMARY:Food Up-marked på Litteraturhuset
UID:44061952-6563-47e9-9830-9d249871838a@www.okouka.no
URL:https://www.okouka.no/lokale-oekouker/oekouka-oslo-og-akershus/program
 /food-up-marked-paa-litteraturhuset/
END:VEVENT
END:VCALENDAR
