BEGIN:VCALENDAR
PRODID:-//github.com/rianjs/ical.net//NONSGML ical.net 4.0//EN
VERSION:2.0
BEGIN:VEVENT
DESCRIPTION:Hva vet du om markedshager? Har du tenkt på at det er mulig å 
 høste sine egne frø fra hagen?
DTEND:20250920T140000Z
DTSTAMP:20250829T162753Z
DTSTART:20250920T110000Z
LAST-MODIFIED:20250829T163417Z
LOCATION:Hvervenhagen
SEQUENCE:0
SUMMARY:Åpen dag og frøsamleworkshop
UID:05e96ad3-eb18-4195-afa1-fb685b97a343@www.okouka.no
URL:https://www.okouka.no/lokale-oekouker/oekouka-oslo-og-akershus/program
 /aapen-dag-og-froesamleworkshop/
END:VEVENT
END:VCALENDAR
