BEGIN:VCALENDAR
PRODID:-//github.com/rianjs/ical.net//NONSGML ical.net 4.0//EN
VERSION:2.0
BEGIN:VEVENT
DESCRIPTION:ÅPEN GÅRD – NATUREN PÅ GLASS \n\nHvordan kan vi ta vare på nat
 urens smaker – også etter at høsten er over?
DTSTAMP:20250829T164142Z
DTSTART;VALUE=DATE:20250921
LAST-MODIFIED:20250905T132309Z
LOCATION: Geitmyra Matkultursenter
SEQUENCE:0
SUMMARY:Åpen Gård:  Naturen på glass\, m/ Norges sopp- og nyttevekstforbund
UID:0115f9ba-9f21-425d-afbd-eaafc491630e@www.okouka.no
URL:https://www.okouka.no/lokale-oekouker/oekouka-oslo-og-akershus/program
 /aapen-gaard-naturen-paa-glass-m-norges-sopp-og-nyttevekstforbund/
END:VEVENT
END:VCALENDAR
