BEGIN:VCALENDAR
PRODID:-//github.com/rianjs/ical.net//NONSGML ical.net 4.0//EN
VERSION:2.0
BEGIN:VEVENT
DESCRIPTION:Kompisane Leiv Arne Risa og Dan Sundhordvik starta i 2021 å fo
 rvandle eit gjengrodd beite til Bergens første DEBIO-godkjende marknadsha
 ge.
DTEND:20250913T124500Z
DTSTAMP:20250902T075026Z
DTSTART:20250913T104500Z
LAST-MODIFIED:20250902T075708Z
LOCATION:Bergen Øko
SEQUENCE:0
SUMMARY:Omvisning og kurs hos Bergen Øko Markedshage
UID:5fabcafb-820c-45ea-bd0f-33c17b07a397@www.okouka.no
URL:https://www.okouka.no/lokale-oekouker/oekoveka-bergen/program/omvisnin
 g-og-kurs-hos-bergen-oeko-markedshage/
END:VEVENT
END:VCALENDAR
