BEGIN:VCALENDAR
PRODID:-//github.com/rianjs/ical.net//NONSGML ical.net 4.0//EN
VERSION:2.0
BEGIN:VEVENT
DESCRIPTION:Velkommen til fermenteringskurs på Oslo kulturnatt fredag 12. 
 september.
DTEND:20250912T160000Z
DTSTAMP:20250902T115913Z
DTSTART:20250912T150000Z
LAST-MODIFIED:20250908T210536Z
LOCATION:Berle\, Proffesor dahls gt 30
SEQUENCE:0
SUMMARY:Fermenteringskurs med Jonathan Lengali
UID:3f392b89-946c-4bde-acc1-5f7a7222037e@www.okouka.no
URL:https://www.okouka.no/lokale-oekouker/oekouka-oslo-og-akershus/program
 /fermenteringskurs-med-jonathan-lengali/
END:VEVENT
END:VCALENDAR
