BEGIN:VCALENDAR
PRODID:-//github.com/rianjs/ical.net//NONSGML ical.net 4.0//EN
VERSION:2.0
BEGIN:VEVENT
DESCRIPTION:Salg av grovbrød\, surdeigsbrød\, søtbakst og mel av økologisk
  urkorn\, som er dyrket og malt på steinkvern på gården.
DTEND:20250919T150000Z
DTSTAMP:20250902T184315Z
DTSTART:20250919T100000Z
LAST-MODIFIED:20250902T184315Z
LOCATION:Jenny på Jørem
SEQUENCE:0
SUMMARY:Åpent bakeriutsalg hos Jenny på Jørem
UID:89abcaf0-304a-4882-8a2c-caf86ba35944@www.okouka.no
URL:https://www.okouka.no/lokale-oekouker/oekouka-troendelag/program/aapen
 t-bakeriutsalg-hos-jenny-paa-joerem/
END:VEVENT
END:VCALENDAR
