BEGIN:VCALENDAR
PRODID:-//github.com/rianjs/ical.net//NONSGML ical.net 4.0//EN
VERSION:2.0
BEGIN:VEVENT
DESCRIPTION:Velkommen til markvandring i småskala grøntproduksjon på Dun G
 ård! Arrangementet er gratis og åpent for alle.
DTEND:20250916T170000Z
DTSTAMP:20250902T190301Z
DTSTART:20250916T150000Z
LAST-MODIFIED:20250902T190301Z
LOCATION:Dun Gård (Hovsvegen 2\, 7856 Jøa)
SEQUENCE:0
SUMMARY:Økomarkvandring i andelslandbruket på Dun Gård
UID:d9d9557f-e024-4ea8-8dce-ff9a425b2ab1@www.okouka.no
URL:https://www.okouka.no/lokale-oekouker/oekouka-troendelag/program/oekom
 arkvandring-i-andelslandbruket-paa-dun-gaard/
END:VEVENT
END:VCALENDAR
