BEGIN:VCALENDAR
PRODID:-//github.com/rianjs/ical.net//NONSGML ical.net 4.0//EN
VERSION:2.0
BEGIN:VEVENT
DESCRIPTION:Velkommen til markvandring i småskala grøntproduksjon på Medal
 hus Andelslandbruk! Arrangementet er gratis og passer for deg som er inte
 ressert i småskala grøntproduksjon.
DTEND:20250917T160000Z
DTSTAMP:20250902T190459Z
DTSTART:20250917T140000Z
LAST-MODIFIED:20250902T190459Z
LOCATION:Medalhus Andelslandbruk
SEQUENCE:0
SUMMARY:Økomarkvandring på Medalhus Andelslandbruk
UID:74c602e2-86fe-4695-9102-4303290ead88@www.okouka.no
URL:https://www.okouka.no/lokale-oekouker/oekouka-troendelag/program/oekom
 arkvandring-paa-medalhus-andelslandbruk/
END:VEVENT
END:VCALENDAR
