BEGIN:VCALENDAR
PRODID:-//github.com/rianjs/ical.net//NONSGML ical.net 4.0//EN
VERSION:2.0
BEGIN:VEVENT
DESCRIPTION:Velkommen til en tre-retters middag med lokale\, underutnytta 
 råvarer\, gode historier og nye perspektiver på hva vi burde spise mer av
 .
DTEND:20250913T210000Z
DTSTAMP:20250902T214234Z
DTSTART:20250913T170000Z
LAST-MODIFIED:20250903T093438Z
LOCATION:Sellanraa
SEQUENCE:0
SUMMARY:Alt på bordet – en middag til ære for det vi ikke spiser
UID:7a8993b6-4604-4293-b786-2e875fa1e776@www.okouka.no
URL:https://www.okouka.no/lokale-oekouker/oekouka-troendelag/program/alt-p
 aa-bordet-en-middag-til-aere-for-det-vi-ikke-spiser/
END:VEVENT
END:VCALENDAR
